Workbook
Name TypeList: OFFSET('Sub-Grantee'!$N$12,0,0,1+COUNTIF('Sub-Grantee'!$N$13:$N$24,"?*"),1)
Name BudgetList: OFFSET('Sub-Grantee'!$T$13,0,0,MAX(1,COUNTIF('Sub-Grantee'!$T$13:$T$72,"?*")),1)
Name ActivityList: OFFSET('Sub-Grantee'!$Y$13,0,0,MAX(1,COUNTIF('Sub-Grantee'!$Y$13:$Y$72,"?*")),1)

Sheet Sub-Grantee
A1: Sub-Grantee — define everything here, once
A2: Your details, your objectives, your admin lines and your activities. Every other sheet reads from this one, so nothing is ever typed twice. Then say how much you need in each period on the Plan sheet.
A3: Blue = you type Green = worked out for you, do not type over Yellow = totals
A4: Sub-grantee name
A5: Project title
A6: Grant / sub-grant reference
A7: Grant dates (start – end)
A8: Total value of grant (ETB)
A9: Donor
A10: One fresh row appears under each list every time you fill the last one — the lists grow and shrink by themselves.
A11: OBJECTIVES | D11: ADMIN & ACTIVITIES
A12: Objective title | B12: No. | D12: Admin, or which objective? | E12: Title | F12: Code | N12: Admin
B13: =IF($A13="","",COUNTA($A$13:$A13)) | F13: =IF($E13="","",IF($D13="Admin","A."&COUNTIFS($D$13:$D13,"Admin",$E$13:$E13,"<>"),IF($D13="","?",IFERROR(INDEX($B$13:$B$24,MATCH($D13,$A$13:$A$24,0)),"?")&"."&COUNTIFS($D$13:$D13,$D13,$E$13:$E13,"<>")))) | L13: =IF($F13="","",$F13&" "&$E13) | N13: =IF($A$13="","",$A$13&"") | P13: =IF($L$13="","",$L$13&"") | Q13: =IF($P13="","",$D$13&"") | R13: =IF($P13="","",$L$13&"") | S13: =IF($P13="","",COUNTIF($P$13:$P13,"?*")) | T13: =IFERROR(INDEX($P$13:$P$72,MATCH(ROW()-12,$S$13:$S$72,0)),"") | U13: =IFERROR(INDEX($Q$13:$Q$72,MATCH(ROW()-12,$S$13:$S$72,0)),"") | V13: =IFERROR(INDEX($R$13:$R$72,MATCH(ROW()-12,$S$13:$S$72,0)),"") | W13: =IF($L$13="","",$L$13&"") | X13: =IF($W13="","",COUNTIF($W$13:$W13,"?*")) | Y13: =IFERROR(INDEX($W$13:$W$72,MATCH(ROW()-12,$X$13:$X$72,0)),"")
B14: =IF($A14="","",COUNTA($A$13:$A14)) | F14: =IF($E14="","",IF($D14="Admin","A."&COUNTIFS($D$13:$D14,"Admin",$E$13:$E14,"<>"),IF($D14="","?",IFERROR(INDEX($B$13:$B$24,MATCH($D14,$A$13:$A$24,0)),"?")&"."&COUNTIFS($D$13:$D14,$D14,$E$13:$E14,"<>")))) | L14: =IF($F14="","",$F14&" "&$E14) | N14: =IF($A$14="","",$A$14&"") | P14: =IF($L$14="","",$L$14&"") | Q14: =IF($P14="","",$D$14&"") | R14: =IF($P14="","",$L$14&"") | S14: =IF($P14="","",COUNTIF($P$13:$P14,"?*")) | T14: =IFERROR(INDEX($P$13:$P$72,MATCH(ROW()-12,$S$13:$S$72,0)),"") | U14: =IFERROR(INDEX($Q$13:$Q$72,MATCH(ROW()-12,$S$13:$S$72,0)),"") | V14: =IFERROR(INDEX($R$13:$R$72,MATCH(ROW()-12,$S$13:$S$72,0)),"") | W14: =IF($L$14="","",$L$14&"") | X14: =IF($W14="","",COUNTIF($W$13:$W14,"?*")) | Y14: =IFERROR(INDEX($W$13:$W$72,MATCH(ROW()-12,$X$13:$X$72,0)),"")
B15: =IF($A15="","",COUNTA($A$13:$A15)) | F15: =IF($E15="","",IF($D15="Admin","A."&COUNTIFS($D$13:$D15,"Admin",$E$13:$E15,"<>"),IF($D15="","?",IFERROR(INDEX($B$13:$B$24,MATCH($D15,$A$13:$A$24,0)),"?")&"."&COUNTIFS($D$13:$D15,$D15,$E$13:$E15,"<>")))) | L15: =IF($F15="","",$F15&" "&$E15) | N15: =IF($A$15="","",$A$15&"") | P15: =IF($L$15="","",$L$15&"") | Q15: =IF($P15="","",$D$15&"") | R15: =IF($P15="","",$L$15&"") | S15: =IF($P15="","",COUNTIF($P$13:$P15,"?*")) | T15: =IFERROR(INDEX($P$13:$P$72,MATCH(ROW()-12,$S$13:$S$72,0)),"") | U15: =IFERROR(INDEX($Q$13:$Q$72,MATCH(ROW()-12,$S$13:$S$72,0)),"") | V15: =IFERROR(INDEX($R$13:$R$72,MATCH(ROW()-12,$S$13:$S$72,0)),"") | W15: =IF($L$15="","",$L$15&"") | X15: =IF($W15="","",COUNTIF($W$13:$W15,"?*")) | Y15: =IFERROR(INDEX($W$13:$W$72,MATCH(ROW()-12,$X$13:$X$72,0)),"")
B16: =IF($A16="","",COUNTA($A$13:$A16)) | F16: =IF($E16="","",IF($D16="Admin","A."&COUNTIFS($D$13:$D16,"Admin",$E$13:$E16,"<>"),IF($D16="","?",IFERROR(INDEX($B$13:$B$24,MATCH($D16,$A$13:$A$24,0)),"?")&"."&COUNTIFS($D$13:$D16,$D16,$E$13:$E16,"<>")))) | L16: =IF($F16="","",$F16&" "&$E16) | N16: =IF($A$16="","",$A$16&"") | P16: =IF($L$16="","",$L$16&"") | Q16: =IF($P16="","",$D$16&"") | R16: =IF($P16="","",$L$16&"") | S16: =IF($P16="","",COUNTIF($P$13:$P16,"?*")) | T16: =IFERROR(INDEX($P$13:$P$72,MATCH(ROW()-12,$S$13:$S$72,0)),"") | U16: =IFERROR(INDEX($Q$13:$Q$72,MATCH(ROW()-12,$S$13:$S$72,0)),"") | V16: =IFERROR(INDEX($R$13:$R$72,MATCH(ROW()-12,$S$13:$S$72,0)),"") | W16: =IF($L$16="","",$L$16&"") | X16: =IF($W16="","",COUNTIF($W$13:$W16,"?*")) | Y16: =IFERROR(INDEX($W$13:$W$72,MATCH(ROW()-12,$X$13:$X$72,0)),"")
B17: =IF($A17="","",COUNTA($A$13:$A17)) | F17: =IF($E17="","",IF($D17="Admin","A."&COUNTIFS($D$13:$D17,"Admin",$E$13:$E17,"<>"),IF($D17="","?",IFERROR(INDEX($B$13:$B$24,MATCH($D17,$A$13:$A$24,0)),"?")&"."&COUNTIFS($D$13:$D17,$D17,$E$13:$E17,"<>")))) | L17: =IF($F17="","",$F17&" "&$E17) | N17: =IF($A$17="","",$A$17&"") | P17: =IF($L$17="","",$L$17&"") | Q17: =IF($P17="","",$D$17&"") | R17: =IF($P17="","",$L$17&"") | S17: =IF($P17="","",COUNTIF($P$13:$P17,"?*")) | T17: =IFERROR(INDEX($P$13:$P$72,MATCH(ROW()-12,$S$13:$S$72,0)),"") | U17: =IFERROR(INDEX($Q$13:$Q$72,MATCH(ROW()-12,$S$13:$S$72,0)),"") | V17: =IFERROR(INDEX($R$13:$R$72,MATCH(ROW()-12,$S$13:$S$72,0)),"") | W17: =IF($L$17="","",$L$17&"") | X17: =IF($W17="","",COUNTIF($W$13:$W17,"?*")) | Y17: =IFERROR(INDEX($W$13:$W$72,MATCH(ROW()-12,$X$13:$X$72,0)),"")
B18: =IF($A18="","",COUNTA($A$13:$A18)) | F18: =IF($E18="","",IF($D18="Admin","A."&COUNTIFS($D$13:$D18,"Admin",$E$13:$E18,"<>"),IF($D18="","?",IFERROR(INDEX($B$13:$B$24,MATCH($D18,$A$13:$A$24,0)),"?")&"."&COUNTIFS($D$13:$D18,$D18,$E$13:$E18,"<>")))) | L18: =IF($F18="","",$F18&" "&$E18) | N18: =IF($A$18="","",$A$18&"") | P18: =IF($L$18="","",$L$18&"") | Q18: =IF($P18="","",$D$18&"") | R18: =IF($P18="","",$L$18&"") | S18: =IF($P18="","",COUNTIF($P$13:$P18,"?*")) | T18: =IFERROR(INDEX($P$13:$P$72,MATCH(ROW()-12,$S$13:$S$72,0)),"") | U18: =IFERROR(INDEX($Q$13:$Q$72,MATCH(ROW()-12,$S$13:$S$72,0)),"") | V18: =IFERROR(INDEX($R$13:$R$72,MATCH(ROW()-12,$S$13:$S$72,0)),"") | W18: =IF($L$18="","",$L$18&"") | X18: =IF($W18="","",COUNTIF($W$13:$W18,"?*")) | Y18: =IFERROR(INDEX($W$13:$W$72,MATCH(ROW()-12,$X$13:$X$72,0)),"")
B19: =IF($A19="","",COUNTA($A$13:$A19)) | F19: =IF($E19="","",IF($D19="Admin","A."&COUNTIFS($D$13:$D19,"Admin",$E$13:$E19,"<>"),IF($D19="","?",IFERROR(INDEX($B$13:$B$24,MATCH($D19,$A$13:$A$24,0)),"?")&"."&COUNTIFS($D$13:$D19,$D19,$E$13:$E19,"<>")))) | L19: =IF($F19="","",$F19&" "&$E19) | N19: =IF($A$19="","",$A$19&"") | P19: =IF($L$19="","",$L$19&"") | Q19: =IF($P19="","",$D$19&"") | R19: =IF($P19="","",$L$19&"") | S19: =IF($P19="","",COUNTIF($P$13:$P19,"?*")) | T19: =IFERROR(INDEX($P$13:$P$72,MATCH(ROW()-12,$S$13:$S$72,0)),"") | U19: =IFERROR(INDEX($Q$13:$Q$72,MATCH(ROW()-12,$S$13:$S$72,0)),"") | V19: =IFERROR(INDEX($R$13:$R$72,MATCH(ROW()-12,$S$13:$S$72,0)),"") | W19: =IF($L$19="","",$L$19&"") | X19: =IF($W19="","",COUNTIF($W$13:$W19,"?*")) | Y19: =IFERROR(INDEX($W$13:$W$72,MATCH(ROW()-12,$X$13:$X$72,0)),"")
B20: =IF($A20="","",COUNTA($A$13:$A20)) | F20: =IF($E20="","",IF($D20="Admin","A."&COUNTIFS($D$13:$D20,"Admin",$E$13:$E20,"<>"),IF($D20="","?",IFERROR(INDEX($B$13:$B$24,MATCH($D20,$A$13:$A$24,0)),"?")&"."&COUNTIFS($D$13:$D20,$D20,$E$13:$E20,"<>")))) | L20: =IF($F20="","",$F20&" "&$E20) | N20: =IF($A$20="","",$A$20&"") | P20: =IF($L$20="","",$L$20&"") | Q20: =IF($P20="","",$D$20&"") | R20: =IF($P20="","",$L$20&"") | S20: =IF($P20="","",COUNTIF($P$13:$P20,"?*")) | T20: =IFERROR(INDEX($P$13:$P$72,MATCH(ROW()-12,$S$13:$S$72,0)),"") | U20: =IFERROR(INDEX($Q$13:$Q$72,MATCH(ROW()-12,$S$13:$S$72,0)),"") | V20: =IFERROR(INDEX($R$13:$R$72,MATCH(ROW()-12,$S$13:$S$72,0)),"") | W20: =IF($L$20="","",$L$20&"") | X20: =IF($W20="","",COUNTIF($W$13:$W20,"?*")) | Y20: =IFERROR(INDEX($W$13:$W$72,MATCH(ROW()-12,$X$13:$X$72,0)),"")
B21: =IF($A21="","",COUNTA($A$13:$A21)) | F21: =IF($E21="","",IF($D21="Admin","A."&COUNTIFS($D$13:$D21,"Admin",$E$13:$E21,"<>"),IF($D21="","?",IFERROR(INDEX($B$13:$B$24,MATCH($D21,$A$13:$A$24,0)),"?")&"."&COUNTIFS($D$13:$D21,$D21,$E$13:$E21,"<>")))) | L21: =IF($F21="","",$F21&" "&$E21) | N21: =IF($A$21="","",$A$21&"") | P21: =IF($L$21="","",$L$21&"") | Q21: =IF($P21="","",$D$21&"") | R21: =IF($P21="","",$L$21&"") | S21: =IF($P21="","",COUNTIF($P$13:$P21,"?*")) | T21: =IFERROR(INDEX($P$13:$P$72,MATCH(ROW()-12,$S$13:$S$72,0)),"") | U21: =IFERROR(INDEX($Q$13:$Q$72,MATCH(ROW()-12,$S$13:$S$72,0)),"") | V21: =IFERROR(INDEX($R$13:$R$72,MATCH(ROW()-12,$S$13:$S$72,0)),"") | W21: =IF($L$21="","",$L$21&"") | X21: =IF($W21="","",COUNTIF($W$13:$W21,"?*")) | Y21: =IFERROR(INDEX($W$13:$W$72,MATCH(ROW()-12,$X$13:$X$72,0)),"")
B22: =IF($A22="","",COUNTA($A$13:$A22)) | F22: =IF($E22="","",IF($D22="Admin","A."&COUNTIFS($D$13:$D22,"Admin",$E$13:$E22,"<>"),IF($D22="","?",IFERROR(INDEX($B$13:$B$24,MATCH($D22,$A$13:$A$24,0)),"?")&"."&COUNTIFS($D$13:$D22,$D22,$E$13:$E22,"<>")))) | L22: =IF($F22="","",$F22&" "&$E22) | N22: =IF($A$22="","",$A$22&"") | P22: =IF($L$22="","",$L$22&"") | Q22: =IF($P22="","",$D$22&"") | R22: =IF($P22="","",$L$22&"") | S22: =IF($P22="","",COUNTIF($P$13:$P22,"?*")) | T22: =IFERROR(INDEX($P$13:$P$72,MATCH(ROW()-12,$S$13:$S$72,0)),"") | U22: =IFERROR(INDEX($Q$13:$Q$72,MATCH(ROW()-12,$S$13:$S$72,0)),"") | V22: =IFERROR(INDEX($R$13:$R$72,MATCH(ROW()-12,$S$13:$S$72,0)),"") | W22: =IF($L$22="","",$L$22&"") | X22: =IF($W22="","",COUNTIF($W$13:$W22,"?*")) | Y22: =IFERROR(INDEX($W$13:$W$72,MATCH(ROW()-12,$X$13:$X$72,0)),"")
B23: =IF($A23="","",COUNTA($A$13:$A23)) | F23: =IF($E23="","",IF($D23="Admin","A."&COUNTIFS($D$13:$D23,"Admin",$E$13:$E23,"<>"),IF($D23="","?",IFERROR(INDEX($B$13:$B$24,MATCH($D23,$A$13:$A$24,0)),"?")&"."&COUNTIFS($D$13:$D23,$D23,$E$13:$E23,"<>")))) | L23: =IF($F23="","",$F23&" "&$E23) | N23: =IF($A$23="","",$A$23&"") | P23: =IF($L$23="","",$L$23&"") | Q23: =IF($P23="","",$D$23&"") | R23: =IF($P23="","",$L$23&"") | S23: =IF($P23="","",COUNTIF($P$13:$P23,"?*")) | T23: =IFERROR(INDEX($P$13:$P$72,MATCH(ROW()-12,$S$13:$S$72,0)),"") | U23: =IFERROR(INDEX($Q$13:$Q$72,MATCH(ROW()-12,$S$13:$S$72,0)),"") | V23: =IFERROR(INDEX($R$13:$R$72,MATCH(ROW()-12,$S$13:$S$72,0)),"") | W23: =IF($L$23="","",$L$23&"") | X23: =IF($W23="","",COUNTIF($W$13:$W23,"?*")) | Y23: =IFERROR(INDEX($W$13:$W$72,MATCH(ROW()-12,$X$13:$X$72,0)),"")
B24: =IF($A24="","",COUNTA($A$13:$A24)) | F24: =IF($E24="","",IF($D24="Admin","A."&COUNTIFS($D$13:$D24,"Admin",$E$13:$E24,"<>"),IF($D24="","?",IFERROR(INDEX($B$13:$B$24,MATCH($D24,$A$13:$A$24,0)),"?")&"."&COUNTIFS($D$13:$D24,$D24,$E$13:$E24,"<>")))) | L24: =IF($F24="","",$F24&" "&$E24) | N24: =IF($A$24="","",$A$24&"") | P24: =IF($L$24="","",$L$24&"") | Q24: =IF($P24="","",$D$24&"") | R24: =IF($P24="","",$L$24&"") | S24: =IF($P24="","",COUNTIF($P$13:$P24,"?*")) | T24: =IFERROR(INDEX($P$13:$P$72,MATCH(ROW()-12,$S$13:$S$72,0)),"") | U24: =IFERROR(INDEX($Q$13:$Q$72,MATCH(ROW()-12,$S$13:$S$72,0)),"") | V24: =IFERROR(INDEX($R$13:$R$72,MATCH(ROW()-12,$S$13:$S$72,0)),"") | W24: =IF($L$24="","",$L$24&"") | X24: =IF($W24="","",COUNTIF($W$13:$W24,"?*")) | Y24: =IFERROR(INDEX($W$13:$W$72,MATCH(ROW()-12,$X$13:$X$72,0)),"")
F25: =IF($E25="","",IF($D25="Admin","A."&COUNTIFS($D$13:$D25,"Admin",$E$13:$E25,"<>"),IF($D25="","?",IFERROR(INDEX($B$13:$B$24,MATCH($D25,$A$13:$A$24,0)),"?")&"."&COUNTIFS($D$13:$D25,$D25,$E$13:$E25,"<>")))) | L25: =IF($F25="","",$F25&" "&$E25) | P25: =IF($L$25="","",$L$25&"") | Q25: =IF($P25="","",$D$25&"") | R25: =IF($P25="","",$L$25&"") | S25: =IF($P25="","",COUNTIF($P$13:$P25,"?*")) | T25: =IFERROR(INDEX($P$13:$P$72,MATCH(ROW()-12,$S$13:$S$72,0)),"") | U25: =IFERROR(INDEX($Q$13:$Q$72,MATCH(ROW()-12,$S$13:$S$72,0)),"") | V25: =IFERROR(INDEX($R$13:$R$72,MATCH(ROW()-12,$S$13:$S$72,0)),"") | W25: =IF($L$25="","",$L$25&"") | X25: =IF($W25="","",COUNTIF($W$13:$W25,"?*")) | Y25: =IFERROR(INDEX($W$13:$W$72,MATCH(ROW()-12,$X$13:$X$72,0)),"")
F26: =IF($E26="","",IF($D26="Admin","A."&COUNTIFS($D$13:$D26,"Admin",$E$13:$E26,"<>"),IF($D26="","?",IFERROR(INDEX($B$13:$B$24,MATCH($D26,$A$13:$A$24,0)),"?")&"."&COUNTIFS($D$13:$D26,$D26,$E$13:$E26,"<>")))) | L26: =IF($F26="","",$F26&" "&$E26) | P26: =IF($L$26="","",$L$26&"") | Q26: =IF($P26="","",$D$26&"") | R26: =IF($P26="","",$L$26&"") | S26: =IF($P26="","",COUNTIF($P$13:$P26,"?*")) | T26: =IFERROR(INDEX($P$13:$P$72,MATCH(ROW()-12,$S$13:$S$72,0)),"") | U26: =IFERROR(INDEX($Q$13:$Q$72,MATCH(ROW()-12,$S$13:$S$72,0)),"") | V26: =IFERROR(INDEX($R$13:$R$72,MATCH(ROW()-12,$S$13:$S$72,0)),"") | W26: =IF($L$26="","",$L$26&"") | X26: =IF($W26="","",COUNTIF($W$13:$W26,"?*")) | Y26: =IFERROR(INDEX($W$13:$W$72,MATCH(ROW()-12,$X$13:$X$72,0)),"")
F27: =IF($E27="","",IF($D27="Admin","A."&COUNTIFS($D$13:$D27,"Admin",$E$13:$E27,"<>"),IF($D27="","?",IFERROR(INDEX($B$13:$B$24,MATCH($D27,$A$13:$A$24,0)),"?")&"."&COUNTIFS($D$13:$D27,$D27,$E$13:$E27,"<>")))) | L27: =IF($F27="","",$F27&" "&$E27) | P27: =IF($L$27="","",$L$27&"") | Q27: =IF($P27="","",$D$27&"") | R27: =IF($P27="","",$L$27&"") | S27: =IF($P27="","",COUNTIF($P$13:$P27,"?*")) | T27: =IFERROR(INDEX($P$13:$P$72,MATCH(ROW()-12,$S$13:$S$72,0)),"") | U27: =IFERROR(INDEX($Q$13:$Q$72,MATCH(ROW()-12,$S$13:$S$72,0)),"") | V27: =IFERROR(INDEX($R$13:$R$72,MATCH(ROW()-12,$S$13:$S$72,0)),"") | W27: =IF($L$27="","",$L$27&"") | X27: =IF($W27="","",COUNTIF($W$13:$W27,"?*")) | Y27: =IFERROR(INDEX($W$13:$W$72,MATCH(ROW()-12,$X$13:$X$72,0)),"")
F28: =IF($E28="","",IF($D28="Admin","A."&COUNTIFS($D$13:$D28,"Admin",$E$13:$E28,"<>"),IF($D28="","?",IFERROR(INDEX($B$13:$B$24,MATCH($D28,$A$13:$A$24,0)),"?")&"."&COUNTIFS($D$13:$D28,$D28,$E$13:$E28,"<>")))) | L28: =IF($F28="","",$F28&" "&$E28) | P28: =IF($L$28="","",$L$28&"") | Q28: =IF($P28="","",$D$28&"") | R28: =IF($P28="","",$L$28&"") | S28: =IF($P28="","",COUNTIF($P$13:$P28,"?*")) | T28: =IFERROR(INDEX($P$13:$P$72,MATCH(ROW()-12,$S$13:$S$72,0)),"") | U28: =IFERROR(INDEX($Q$13:$Q$72,MATCH(ROW()-12,$S$13:$S$72,0)),"") | V28: =IFERROR(INDEX($R$13:$R$72,MATCH(ROW()-12,$S$13:$S$72,0)),"") | W28: =IF($L$28="","",$L$28&"") | X28: =IF($W28="","",COUNTIF($W$13:$W28,"?*")) | Y28: =IFERROR(INDEX($W$13:$W$72,MATCH(ROW()-12,$X$13:$X$72,0)),"")
F29: =IF($E29="","",IF($D29="Admin","A."&COUNTIFS($D$13:$D29,"Admin",$E$13:$E29,"<>"),IF($D29="","?",IFERROR(INDEX($B$13:$B$24,MATCH($D29,$A$13:$A$24,0)),"?")&"."&COUNTIFS($D$13:$D29,$D29,$E$13:$E29,"<>")))) | L29: =IF($F29="","",$F29&" "&$E29) | P29: =IF($L$29="","",$L$29&"") | Q29: =IF($P29="","",$D$29&"") | R29: =IF($P29="","",$L$29&"") | S29: =IF($P29="","",COUNTIF($P$13:$P29,"?*")) | T29: =IFERROR(INDEX($P$13:$P$72,MATCH(ROW()-12,$S$13:$S$72,0)),"") | U29: =IFERROR(INDEX($Q$13:$Q$72,MATCH(ROW()-12,$S$13:$S$72,0)),"") | V29: =IFERROR(INDEX($R$13:$R$72,MATCH(ROW()-12,$S$13:$S$72,0)),"") | W29: =IF($L$29="","",$L$29&"") | X29: =IF($W29="","",COUNTIF($W$13:$W29,"?*")) | Y29: =IFERROR(INDEX($W$13:$W$72,MATCH(ROW()-12,$X$13:$X$72,0)),"")
F30: =IF($E30="","",IF($D30="Admin","A."&COUNTIFS($D$13:$D30,"Admin",$E$13:$E30,"<>"),IF($D30="","?",IFERROR(INDEX($B$13:$B$24,MATCH($D30,$A$13:$A$24,0)),"?")&"."&COUNTIFS($D$13:$D30,$D30,$E$13:$E30,"<>")))) | L30: =IF($F30="","",$F30&" "&$E30) | P30: =IF($L$30="","",$L$30&"") | Q30: =IF($P30="","",$D$30&"") | R30: =IF($P30="","",$L$30&"") | S30: =IF($P30="","",COUNTIF($P$13:$P30,"?*")) | T30: =IFERROR(INDEX($P$13:$P$72,MATCH(ROW()-12,$S$13:$S$72,0)),"") | U30: =IFERROR(INDEX($Q$13:$Q$72,MATCH(ROW()-12,$S$13:$S$72,0)),"") | V30: =IFERROR(INDEX($R$13:$R$72,MATCH(ROW()-12,$S$13:$S$72,0)),"") | W30: =IF($L$30="","",$L$30&"") | X30: =IF($W30="","",COUNTIF($W$13:$W30,"?*")) | Y30: =IFERROR(INDEX($W$13:$W$72,MATCH(ROW()-12,$X$13:$X$72,0)),"")
F31: =IF($E31="","",IF($D31="Admin","A."&COUNTIFS($D$13:$D31,"Admin",$E$13:$E31,"<>"),IF($D31="","?",IFERROR(INDEX($B$13:$B$24,MATCH($D31,$A$13:$A$24,0)),"?")&"."&COUNTIFS($D$13:$D31,$D31,$E$13:$E31,"<>")))) | L31: =IF($F31="","",$F31&" "&$E31) | P31: =IF($L$31="","",$L$31&"") | Q31: =IF($P31="","",$D$31&"") | R31: =IF($P31="","",$L$31&"") | S31: =IF($P31="","",COUNTIF($P$13:$P31,"?*")) | T31: =IFERROR(INDEX($P$13:$P$72,MATCH(ROW()-12,$S$13:$S$72,0)),"") | U31: =IFERROR(INDEX($Q$13:$Q$72,MATCH(ROW()-12,$S$13:$S$72,0)),"") | V31: =IFERROR(INDEX($R$13:$R$72,MATCH(ROW()-12,$S$13:$S$72,0)),"") | W31: =IF($L$31="","",$L$31&"") | X31: =IF($W31="","",COUNTIF($W$13:$W31,"?*")) | Y31: =IFERROR(INDEX($W$13:$W$72,MATCH(ROW()-12,$X$13:$X$72,0)),"")
F32: =IF($E32="","",IF($D32="Admin","A."&COUNTIFS($D$13:$D32,"Admin",$E$13:$E32,"<>"),IF($D32="","?",IFERROR(INDEX($B$13:$B$24,MATCH($D32,$A$13:$A$24,0)),"?")&"."&COUNTIFS($D$13:$D32,$D32,$E$13:$E32,"<>")))) | L32: =IF($F32="","",$F32&" "&$E32) | P32: =IF($L$32="","",$L$32&"") | Q32: =IF($P32="","",$D$32&"") | R32: =IF($P32="","",$L$32&"") | S32: =IF($P32="","",COUNTIF($P$13:$P32,"?*")) | T32: =IFERROR(INDEX($P$13:$P$72,MATCH(ROW()-12,$S$13:$S$72,0)),"") | U32: =IFERROR(INDEX($Q$13:$Q$72,MATCH(ROW()-12,$S$13:$S$72,0)),"") | V32: =IFERROR(INDEX($R$13:$R$72,MATCH(ROW()-12,$S$13:$S$72,0)),"") | W32: =IF($L$32="","",$L$32&"") | X32: =IF($W32="","",COUNTIF($W$13:$W32,"?*")) | Y32: =IFERROR(INDEX($W$13:$W$72,MATCH(ROW()-12,$X$13:$X$72,0)),"")
F33: =IF($E33="","",IF($D33="Admin","A."&COUNTIFS($D$13:$D33,"Admin",$E$13:$E33,"<>"),IF($D33="","?",IFERROR(INDEX($B$13:$B$24,MATCH($D33,$A$13:$A$24,0)),"?")&"."&COUNTIFS($D$13:$D33,$D33,$E$13:$E33,"<>")))) | L33: =IF($F33="","",$F33&" "&$E33) | P33: =IF($L$33="","",$L$33&"") | Q33: =IF($P33="","",$D$33&"") | R33: =IF($P33="","",$L$33&"") | S33: =IF($P33="","",COUNTIF($P$13:$P33,"?*")) | T33: =IFERROR(INDEX($P$13:$P$72,MATCH(ROW()-12,$S$13:$S$72,0)),"") | U33: =IFERROR(INDEX($Q$13:$Q$72,MATCH(ROW()-12,$S$13:$S$72,0)),"") | V33: =IFERROR(INDEX($R$13:$R$72,MATCH(ROW()-12,$S$13:$S$72,0)),"") | W33: =IF($L$33="","",$L$33&"") | X33: =IF($W33="","",COUNTIF($W$13:$W33,"?*")) | Y33: =IFERROR(INDEX($W$13:$W$72,MATCH(ROW()-12,$X$13:$X$72,0)),"")
F34: =IF($E34="","",IF($D34="Admin","A."&COUNTIFS($D$13:$D34,"Admin",$E$13:$E34,"<>"),IF($D34="","?",IFERROR(INDEX($B$13:$B$24,MATCH($D34,$A$13:$A$24,0)),"?")&"."&COUNTIFS($D$13:$D34,$D34,$E$13:$E34,"<>")))) | L34: =IF($F34="","",$F34&" "&$E34) | P34: =IF($L$34="","",$L$34&"") | Q34: =IF($P34="","",$D$34&"") | R34: =IF($P34="","",$L$34&"") | S34: =IF($P34="","",COUNTIF($P$13:$P34,"?*")) | T34: =IFERROR(INDEX($P$13:$P$72,MATCH(ROW()-12,$S$13:$S$72,0)),"") | U34: =IFERROR(INDEX($Q$13:$Q$72,MATCH(ROW()-12,$S$13:$S$72,0)),"") | V34: =IFERROR(INDEX($R$13:$R$72,MATCH(ROW()-12,$S$13:$S$72,0)),"") | W34: =IF($L$34="","",$L$34&"") | X34: =IF($W34="","",COUNTIF($W$13:$W34,"?*")) | Y34: =IFERROR(INDEX($W$13:$W$72,MATCH(ROW()-12,$X$13:$X$72,0)),"")
F35: =IF($E35="","",IF($D35="Admin","A."&COUNTIFS($D$13:$D35,"Admin",$E$13:$E35,"<>"),IF($D35="","?",IFERROR(INDEX($B$13:$B$24,MATCH($D35,$A$13:$A$24,0)),"?")&"."&COUNTIFS($D$13:$D35,$D35,$E$13:$E35,"<>")))) | L35: =IF($F35="","",$F35&" "&$E35) | P35: =IF($L$35="","",$L$35&"") | Q35: =IF($P35="","",$D$35&"") | R35: =IF($P35="","",$L$35&"") | S35: =IF($P35="","",COUNTIF($P$13:$P35,"?*")) | T35: =IFERROR(INDEX($P$13:$P$72,MATCH(ROW()-12,$S$13:$S$72,0)),"") | U35: =IFERROR(INDEX($Q$13:$Q$72,MATCH(ROW()-12,$S$13:$S$72,0)),"") | V35: =IFERROR(INDEX($R$13:$R$72,MATCH(ROW()-12,$S$13:$S$72,0)),"") | W35: =IF($L$35="","",$L$35&"") | X35: =IF($W35="","",COUNTIF($W$13:$W35,"?*")) | Y35: =IFERROR(INDEX($W$13:$W$72,MATCH(ROW()-12,$X$13:$X$72,0)),"")
F36: =IF($E36="","",IF($D36="Admin","A."&COUNTIFS($D$13:$D36,"Admin",$E$13:$E36,"<>"),IF($D36="","?",IFERROR(INDEX($B$13:$B$24,MATCH($D36,$A$13:$A$24,0)),"?")&"."&COUNTIFS($D$13:$D36,$D36,$E$13:$E36,"<>")))) | L36: =IF($F36="","",$F36&" "&$E36) | P36: =IF($L$36="","",$L$36&"") | Q36: =IF($P36="","",$D$36&"") | R36: =IF($P36="","",$L$36&"") | S36: =IF($P36="","",COUNTIF($P$13:$P36,"?*")) | T36: =IFERROR(INDEX($P$13:$P$72,MATCH(ROW()-12,$S$13:$S$72,0)),"") | U36: =IFERROR(INDEX($Q$13:$Q$72,MATCH(ROW()-12,$S$13:$S$72,0)),"") | V36: =IFERROR(INDEX($R$13:$R$72,MATCH(ROW()-12,$S$13:$S$72,0)),"") | W36: =IF($L$36="","",$L$36&"") | X36: =IF($W36="","",COUNTIF($W$13:$W36,"?*")) | Y36: =IFERROR(INDEX($W$13:$W$72,MATCH(ROW()-12,$X$13:$X$72,0)),"")
F37: =IF($E37="","",IF($D37="Admin","A."&COUNTIFS($D$13:$D37,"Admin",$E$13:$E37,"<>"),IF($D37="","?",IFERROR(INDEX($B$13:$B$24,MATCH($D37,$A$13:$A$24,0)),"?")&"."&COUNTIFS($D$13:$D37,$D37,$E$13:$E37,"<>")))) | L37: =IF($F37="","",$F37&" "&$E37) | P37: =IF($L$37="","",$L$37&"") | Q37: =IF($P37="","",$D$37&"") | R37: =IF($P37="","",$L$37&"") | S37: =IF($P37="","",COUNTIF($P$13:$P37,"?*")) | T37: =IFERROR(INDEX($P$13:$P$72,MATCH(ROW()-12,$S$13:$S$72,0)),"") | U37: =IFERROR(INDEX($Q$13:$Q$72,MATCH(ROW()-12,$S$13:$S$72,0)),"") | V37: =IFERROR(INDEX($R$13:$R$72,MATCH(ROW()-12,$S$13:$S$72,0)),"") | W37: =IF($L$37="","",$L$37&"") | X37: =IF($W37="","",COUNTIF($W$13:$W37,"?*")) | Y37: =IFERROR(INDEX($W$13:$W$72,MATCH(ROW()-12,$X$13:$X$72,0)),"")
F38: =IF($E38="","",IF($D38="Admin","A."&COUNTIFS($D$13:$D38,"Admin",$E$13:$E38,"<>"),IF($D38="","?",IFERROR(INDEX($B$13:$B$24,MATCH($D38,$A$13:$A$24,0)),"?")&"."&COUNTIFS($D$13:$D38,$D38,$E$13:$E38,"<>")))) | L38: =IF($F38="","",$F38&" "&$E38) | P38: =IF($L$38="","",$L$38&"") | Q38: =IF($P38="","",$D$38&"") | R38: =IF($P38="","",$L$38&"") | S38: =IF($P38="","",COUNTIF($P$13:$P38,"?*")) | T38: =IFERROR(INDEX($P$13:$P$72,MATCH(ROW()-12,$S$13:$S$72,0)),"") | U38: =IFERROR(INDEX($Q$13:$Q$72,MATCH(ROW()-12,$S$13:$S$72,0)),"") | V38: =IFERROR(INDEX($R$13:$R$72,MATCH(ROW()-12,$S$13:$S$72,0)),"") | W38: =IF($L$38="","",$L$38&"") | X38: =IF($W38="","",COUNTIF($W$13:$W38,"?*")) | Y38: =IFERROR(INDEX($W$13:$W$72,MATCH(ROW()-12,$X$13:$X$72,0)),"")
F39: =IF($E39="","",IF($D39="Admin","A."&COUNTIFS($D$13:$D39,"Admin",$E$13:$E39,"<>"),IF($D39="","?",IFERROR(INDEX($B$13:$B$24,MATCH($D39,$A$13:$A$24,0)),"?")&"."&COUNTIFS($D$13:$D39,$D39,$E$13:$E39,"<>")))) | L39: =IF($F39="","",$F39&" "&$E39) | P39: =IF($L$39="","",$L$39&"") | Q39: =IF($P39="","",$D$39&"") | R39: =IF($P39="","",$L$39&"") | S39: =IF($P39="","",COUNTIF($P$13:$P39,"?*")) | T39: =IFERROR(INDEX($P$13:$P$72,MATCH(ROW()-12,$S$13:$S$72,0)),"") | U39: =IFERROR(INDEX($Q$13:$Q$72,MATCH(ROW()-12,$S$13:$S$72,0)),"") | V39: =IFERROR(INDEX($R$13:$R$72,MATCH(ROW()-12,$S$13:$S$72,0)),"") | W39: =IF($L$39="","",$L$39&"") | X39: =IF($W39="","",COUNTIF($W$13:$W39,"?*")) | Y39: =IFERROR(INDEX($W$13:$W$72,MATCH(ROW()-12,$X$13:$X$72,0)),"")
F40: =IF($E40="","",IF($D40="Admin","A."&COUNTIFS($D$13:$D40,"Admin",$E$13:$E40,"<>"),IF($D40="","?",IFERROR(INDEX($B$13:$B$24,MATCH($D40,$A$13:$A$24,0)),"?")&"."&COUNTIFS($D$13:$D40,$D40,$E$13:$E40,"<>")))) | L40: =IF($F40="","",$F40&" "&$E40) | P40: =IF($L$40="","",$L$40&"") | Q40: =IF($P40="","",$D$40&"") | R40: =IF($P40="","",$L$40&"") | S40: =IF($P40="","",COUNTIF($P$13:$P40,"?*")) | T40: =IFERROR(INDEX($P$13:$P$72,MATCH(ROW()-12,$S$13:$S$72,0)),"") | U40: =IFERROR(INDEX($Q$13:$Q$72,MATCH(ROW()-12,$S$13:$S$72,0)),"") | V40: =IFERROR(INDEX($R$13:$R$72,MATCH(ROW()-12,$S$13:$S$72,0)),"") | W40: =IF($L$40="","",$L$40&"") | X40: =IF($W40="","",COUNTIF($W$13:$W40,"?*")) | Y40: =IFERROR(INDEX($W$13:$W$72,MATCH(ROW()-12,$X$13:$X$72,0)),"")
...

Sheet Plan
A1: Financial Requirements Plan
A2: The lines arrive from the Sub-Grantee sheet. Type only the approved budget and the period columns. The total stays in view at the top while you scroll.
A3: Blue = you type Green = worked out for you, do not type over Yellow = totals
A5: Admin line / activity | B5: Approved budget (ETB) | C5: Period 1 | D5: Period 2 | E5: Period 3 | F5: Period 4 | G5: Total planned | H5: Variance
A6: TOTAL | B6: =SUM(B7:B66) | C6: =SUM(C7:C66) | D6: =SUM(D7:D66) | E6: =SUM(E7:E66) | F6: =SUM(F7:F66) | G6: =SUM(G7:G66) | H6: =B6-G6
A7: =IF('Sub-Grantee'!$Y$13="","",'Sub-Grantee'!$Y$13) | G7: =IF($A7="","",SUM($C7:$F7)) | H7: =IF($A7="","",N($B7)-$G7)
A8: =IF('Sub-Grantee'!$Y$14="","",'Sub-Grantee'!$Y$14) | G8: =IF($A8="","",SUM($C8:$F8)) | H8: =IF($A8="","",N($B8)-$G8)
A9: =IF('Sub-Grantee'!$Y$15="","",'Sub-Grantee'!$Y$15) | G9: =IF($A9="","",SUM($C9:$F9)) | H9: =IF($A9="","",N($B9)-$G9)
A10: =IF('Sub-Grantee'!$Y$16="","",'Sub-Grantee'!$Y$16) | G10: =IF($A10="","",SUM($C10:$F10)) | H10: =IF($A10="","",N($B10)-$G10)
A11: =IF('Sub-Grantee'!$Y$17="","",'Sub-Grantee'!$Y$17) | G11: =IF($A11="","",SUM($C11:$F11)) | H11: =IF($A11="","",N($B11)-$G11)
A12: =IF('Sub-Grantee'!$Y$18="","",'Sub-Grantee'!$Y$18) | G12: =IF($A12="","",SUM($C12:$F12)) | H12: =IF($A12="","",N($B12)-$G12)
A13: =IF('Sub-Grantee'!$Y$19="","",'Sub-Grantee'!$Y$19) | G13: =IF($A13="","",SUM($C13:$F13)) | H13: =IF($A13="","",N($B13)-$G13)
A14: =IF('Sub-Grantee'!$Y$20="","",'Sub-Grantee'!$Y$20) | G14: =IF($A14="","",SUM($C14:$F14)) | H14: =IF($A14="","",N($B14)-$G14)
A15: =IF('Sub-Grantee'!$Y$21="","",'Sub-Grantee'!$Y$21) | G15: =IF($A15="","",SUM($C15:$F15)) | H15: =IF($A15="","",N($B15)-$G15)
A16: =IF('Sub-Grantee'!$Y$22="","",'Sub-Grantee'!$Y$22) | G16: =IF($A16="","",SUM($C16:$F16)) | H16: =IF($A16="","",N($B16)-$G16)
A17: =IF('Sub-Grantee'!$Y$23="","",'Sub-Grantee'!$Y$23) | G17: =IF($A17="","",SUM($C17:$F17)) | H17: =IF($A17="","",N($B17)-$G17)
A18: =IF('Sub-Grantee'!$Y$24="","",'Sub-Grantee'!$Y$24) | G18: =IF($A18="","",SUM($C18:$F18)) | H18: =IF($A18="","",N($B18)-$G18)
A19: =IF('Sub-Grantee'!$Y$25="","",'Sub-Grantee'!$Y$25) | G19: =IF($A19="","",SUM($C19:$F19)) | H19: =IF($A19="","",N($B19)-$G19)
A20: =IF('Sub-Grantee'!$Y$26="","",'Sub-Grantee'!$Y$26) | G20: =IF($A20="","",SUM($C20:$F20)) | H20: =IF($A20="","",N($B20)-$G20)
A21: =IF('Sub-Grantee'!$Y$27="","",'Sub-Grantee'!$Y$27) | G21: =IF($A21="","",SUM($C21:$F21)) | H21: =IF($A21="","",N($B21)-$G21)
A22: =IF('Sub-Grantee'!$Y$28="","",'Sub-Grantee'!$Y$28) | G22: =IF($A22="","",SUM($C22:$F22)) | H22: =IF($A22="","",N($B22)-$G22)
A23: =IF('Sub-Grantee'!$Y$29="","",'Sub-Grantee'!$Y$29) | G23: =IF($A23="","",SUM($C23:$F23)) | H23: =IF($A23="","",N($B23)-$G23)
A24: =IF('Sub-Grantee'!$Y$30="","",'Sub-Grantee'!$Y$30) | G24: =IF($A24="","",SUM($C24:$F24)) | H24: =IF($A24="","",N($B24)-$G24)
A25: =IF('Sub-Grantee'!$Y$31="","",'Sub-Grantee'!$Y$31) | G25: =IF($A25="","",SUM($C25:$F25)) | H25: =IF($A25="","",N($B25)-$G25)
A26: =IF('Sub-Grantee'!$Y$32="","",'Sub-Grantee'!$Y$32) | G26: =IF($A26="","",SUM($C26:$F26)) | H26: =IF($A26="","",N($B26)-$G26)
A27: =IF('Sub-Grantee'!$Y$33="","",'Sub-Grantee'!$Y$33) | G27: =IF($A27="","",SUM($C27:$F27)) | H27: =IF($A27="","",N($B27)-$G27)
A28: =IF('Sub-Grantee'!$Y$34="","",'Sub-Grantee'!$Y$34) | G28: =IF($A28="","",SUM($C28:$F28)) | H28: =IF($A28="","",N($B28)-$G28)
A29: =IF('Sub-Grantee'!$Y$35="","",'Sub-Grantee'!$Y$35) | G29: =IF($A29="","",SUM($C29:$F29)) | H29: =IF($A29="","",N($B29)-$G29)
A30: =IF('Sub-Grantee'!$Y$36="","",'Sub-Grantee'!$Y$36) | G30: =IF($A30="","",SUM($C30:$F30)) | H30: =IF($A30="","",N($B30)-$G30)
A31: =IF('Sub-Grantee'!$Y$37="","",'Sub-Grantee'!$Y$37) | G31: =IF($A31="","",SUM($C31:$F31)) | H31: =IF($A31="","",N($B31)-$G31)
A32: =IF('Sub-Grantee'!$Y$38="","",'Sub-Grantee'!$Y$38) | G32: =IF($A32="","",SUM($C32:$F32)) | H32: =IF($A32="","",N($B32)-$G32)
A33: =IF('Sub-Grantee'!$Y$39="","",'Sub-Grantee'!$Y$39) | G33: =IF($A33="","",SUM($C33:$F33)) | H33: =IF($A33="","",N($B33)-$G33)
A34: =IF('Sub-Grantee'!$Y$40="","",'Sub-Grantee'!$Y$40) | G34: =IF($A34="","",SUM($C34:$F34)) | H34: =IF($A34="","",N($B34)-$G34)
A35: =IF('Sub-Grantee'!$Y$41="","",'Sub-Grantee'!$Y$41) | G35: =IF($A35="","",SUM($C35:$F35)) | H35: =IF($A35="","",N($B35)-$G35)
A36: =IF('Sub-Grantee'!$Y$42="","",'Sub-Grantee'!$Y$42) | G36: =IF($A36="","",SUM($C36:$F36)) | H36: =IF($A36="","",N($B36)-$G36)
A37: =IF('Sub-Grantee'!$Y$43="","",'Sub-Grantee'!$Y$43) | G37: =IF($A37="","",SUM($C37:$F37)) | H37: =IF($A37="","",N($B37)-$G37)
A38: =IF('Sub-Grantee'!$Y$44="","",'Sub-Grantee'!$Y$44) | G38: =IF($A38="","",SUM($C38:$F38)) | H38: =IF($A38="","",N($B38)-$G38)
A39: =IF('Sub-Grantee'!$Y$45="","",'Sub-Grantee'!$Y$45) | G39: =IF($A39="","",SUM($C39:$F39)) | H39: =IF($A39="","",N($B39)-$G39)
A40: =IF('Sub-Grantee'!$Y$46="","",'Sub-Grantee'!$Y$46) | G40: =IF($A40="","",SUM($C40:$F40)) | H40: =IF($A40="","",N($B40)-$G40)
A41: =IF('Sub-Grantee'!$Y$47="","",'Sub-Grantee'!$Y$47) | G41: =IF($A41="","",SUM($C41:$F41)) | H41: =IF($A41="","",N($B41)-$G41)
...

Sheet Dashboard
A1: Dashboard
A2: Calculated. Nothing to fill in.
A3: =HYPERLINK("mailto:info@cecoe.org?subject="&SUBSTITUTE("Financial Requirements Plan - "&'Sub-Grantee'!$B$6&" - "&'Sub-Grantee'!$B$4&" - "&TEXT(TODAY(),"dd mmm yyyy")," ","%20"),"✉ Email this to info@cecoe.org")
A4: Save the file first, then attach it to the message that opens.
A6: Approved budget | B6: =Plan!B6
A7: Planned across the periods | B7: =Plan!G6
A8: Still to be planned | B8: =B6-B7
A11: PLANNED BY PERIOD
A12: Period | B12: Planned (ETB) | C12: % of budget
A13: Period 1 | B13: =Plan!C6 | C13: =IFERROR(B13/$B$6,0)
A14: Period 2 | B14: =Plan!D6 | C14: =IFERROR(B14/$B$6,0)
A15: Period 3 | B15: =Plan!E6 | C15: =IFERROR(B15/$B$6,0)
A16: Period 4 | B16: =Plan!F6 | C16: =IFERROR(B16/$B$6,0)
A18: BY ADMIN LINE / ACTIVITY
A19: Admin line / activity | B19: Approved (ETB) | C19: Planned (ETB)
A20: =IF(Plan!$A7="","",Plan!$A7) | B20: =IF($A20="","",Plan!B7) | C20: =IF($A20="","",Plan!G7)
A21: =IF(Plan!$A8="","",Plan!$A8) | B21: =IF($A21="","",Plan!B8) | C21: =IF($A21="","",Plan!G8)
A22: =IF(Plan!$A9="","",Plan!$A9) | B22: =IF($A22="","",Plan!B9) | C22: =IF($A22="","",Plan!G9)
A23: =IF(Plan!$A10="","",Plan!$A10) | B23: =IF($A23="","",Plan!B10) | C23: =IF($A23="","",Plan!G10)
A24: =IF(Plan!$A11="","",Plan!$A11) | B24: =IF($A24="","",Plan!B11) | C24: =IF($A24="","",Plan!G11)
A25: =IF(Plan!$A12="","",Plan!$A12) | B25: =IF($A25="","",Plan!B12) | C25: =IF($A25="","",Plan!G12)
A26: =IF(Plan!$A13="","",Plan!$A13) | B26: =IF($A26="","",Plan!B13) | C26: =IF($A26="","",Plan!G13)
A27: =IF(Plan!$A14="","",Plan!$A14) | B27: =IF($A27="","",Plan!B14) | C27: =IF($A27="","",Plan!G14)
A28: =IF(Plan!$A15="","",Plan!$A15) | B28: =IF($A28="","",Plan!B15) | C28: =IF($A28="","",Plan!G15)
A29: =IF(Plan!$A16="","",Plan!$A16) | B29: =IF($A29="","",Plan!B16) | C29: =IF($A29="","",Plan!G16)
A30: =IF(Plan!$A17="","",Plan!$A17) | B30: =IF($A30="","",Plan!B17) | C30: =IF($A30="","",Plan!G17)
A31: =IF(Plan!$A18="","",Plan!$A18) | B31: =IF($A31="","",Plan!B18) | C31: =IF($A31="","",Plan!G18)
... A79: =IF(Plan!$A66="","",Plan!$A66) | B79: =IF($A79="","",Plan!B66) | C79: =IF($A79="","",Plan!G66)
